BEGIN:VCALENDAR
VERSION:2.0
PRODID:-//Chorlton Community Cooperative - ECPv6.15.20//NONSGML v1.0//EN
CALSCALE:GREGORIAN
METHOD:PUBLISH
X-ORIGINAL-URL:https://chorlton.coop
X-WR-CALDESC:Events for Chorlton Community Cooperative
REFRESH-INTERVAL;VALUE=DURATION:PT1H
X-Robots-Tag:noindex
X-PUBLISHED-TTL:PT1H
BEGIN:VTIMEZONE
TZID:Europe/London
BEGIN:DAYLIGHT
TZOFFSETFROM:+0000
TZOFFSETTO:+0100
TZNAME:BST
DTSTART:20230326T010000
END:DAYLIGHT
BEGIN:STANDARD
TZOFFSETFROM:+0100
TZOFFSETTO:+0000
TZNAME:GMT
DTSTART:20231029T010000
END:STANDARD
BEGIN:DAYLIGHT
TZOFFSETFROM:+0000
TZOFFSETTO:+0100
TZNAME:BST
DTSTART:20240331T010000
END:DAYLIGHT
BEGIN:STANDARD
TZOFFSETFROM:+0100
TZOFFSETTO:+0000
TZNAME:GMT
DTSTART:20241027T010000
END:STANDARD
BEGIN:DAYLIGHT
TZOFFSETFROM:+0000
TZOFFSETTO:+0100
TZNAME:BST
DTSTART:20250330T010000
END:DAYLIGHT
BEGIN:STANDARD
TZOFFSETFROM:+0100
TZOFFSETTO:+0000
TZNAME:GMT
DTSTART:20251026T010000
END:STANDARD
END:VTIMEZONE
BEGIN:VEVENT
DTSTART;TZID=Europe/London:20241115T100000
DTEND;TZID=Europe/London:20241115T120000
DTSTAMP:20260422T194052
CREATED:20241109T122523Z
LAST-MODIFIED:20241109T123018Z
UID:10003425-1731664800-1731672000@chorlton.coop
SUMMARY:Music Workshop
DESCRIPTION:Part of Health Week at Barlow Moor Community Association \nYou are invited welcome to a week of fantastic free health events\, hosted by NHS organisations\, charities and not-for-profits\, aiming to get you ready for winter. It’s all free mostly drop-in\, so no appointment needed. There will be health checks\, physiotherapists\, care navigators\, nurses\, exercise sessions\, craft sessions and much more! \n\nBang your drum\, soothe your soul. All welcome.
URL:https://chorlton.coop/event/music-workshop/
LOCATION:Barlow Moor Community Association\, 23 Merseybank Avenue\, Chorlton\, M21 7NT\, United Kingdom
CATEGORIES:Health,Music,Welfare
END:VEVENT
BEGIN:VEVENT
DTSTART;TZID=Europe/London:20241115T123000
DTEND;TZID=Europe/London:20241115T134500
DTSTAMP:20260422T194052
CREATED:20241109T122614Z
LAST-MODIFIED:20241109T122614Z
UID:10003426-1731673800-1731678300@chorlton.coop
SUMMARY:Tai Chi
DESCRIPTION:Part of Health Week at Barlow Moor Community Association \nYou are invited welcome to a week of fantastic free health events\, hosted by NHS organisations\, charities and not-for-profits\, aiming to get you ready for winter. It’s all free mostly drop-in\, so no appointment needed. There will be health checks\, physiotherapists\, care navigators\, nurses\, exercise sessions\, craft sessions and much more! \n\nSupport your mobility and health. Free. Open to all.
URL:https://chorlton.coop/event/tai-chi/
LOCATION:Barlow Moor Community Association\, 23 Merseybank Avenue\, Chorlton\, M21 7NT\, United Kingdom
CATEGORIES:Health,Music,Welfare
END:VEVENT
END:VCALENDAR