BEGIN:VCALENDAR
VERSION:2.0
PRODID:-//Chorlton Community Cooperative - ECPv6.15.20//NONSGML v1.0//EN
CALSCALE:GREGORIAN
METHOD:PUBLISH
X-WR-CALNAME:Chorlton Community Cooperative
X-ORIGINAL-URL:https://chorlton.coop
X-WR-CALDESC:Events for Chorlton Community Cooperative
REFRESH-INTERVAL;VALUE=DURATION:PT1H
X-Robots-Tag:noindex
X-PUBLISHED-TTL:PT1H
BEGIN:VTIMEZONE
TZID:Europe/London
BEGIN:DAYLIGHT
TZOFFSETFROM:+0000
TZOFFSETTO:+0100
TZNAME:BST
DTSTART:20240331T010000
END:DAYLIGHT
BEGIN:STANDARD
TZOFFSETFROM:+0100
TZOFFSETTO:+0000
TZNAME:GMT
DTSTART:20241027T010000
END:STANDARD
BEGIN:DAYLIGHT
TZOFFSETFROM:+0000
TZOFFSETTO:+0100
TZNAME:BST
DTSTART:20250330T010000
END:DAYLIGHT
BEGIN:STANDARD
TZOFFSETFROM:+0100
TZOFFSETTO:+0000
TZNAME:GMT
DTSTART:20251026T010000
END:STANDARD
BEGIN:DAYLIGHT
TZOFFSETFROM:+0000
TZOFFSETTO:+0100
TZNAME:BST
DTSTART:20260329T010000
END:DAYLIGHT
BEGIN:STANDARD
TZOFFSETFROM:+0100
TZOFFSETTO:+0000
TZNAME:GMT
DTSTART:20261025T010000
END:STANDARD
END:VTIMEZONE
BEGIN:VEVENT
DTSTART;TZID=Europe/London:20251216T153000
DTEND;TZID=Europe/London:20251216T163000
DTSTAMP:20260421T004413
CREATED:20251029T154814Z
LAST-MODIFIED:20251029T154814Z
UID:10008652-1765899000-1765902600@chorlton.coop
SUMMARY:Yoga: Standing and Chair-based Yoga
DESCRIPTION:Barlow Moor Community Association have free standing yoga and chair-based yoga every Tuesday from 3:30 – 4:30pm. Please sign up at reception or call 0161 446 4805.  Do please check before you leave home. \nBMCA\, 23 Merseybank Avenue\, M21 7NT
URL:https://chorlton.coop/event/yoga-standing-and-chair-based-yoga/2025-12-16/
LOCATION:Barlow Moor Community Association\, 23 Merseybank Avenue\, Chorlton\, M21 7NT\, United Kingdom
CATEGORIES:Health,Older people,Welfare,Workshop
END:VEVENT
BEGIN:VEVENT
DTSTART;TZID=Europe/London:20251215T130000
DTEND;TZID=Europe/London:20251215T150000
DTSTAMP:20260421T004413
CREATED:20241109T123544Z
LAST-MODIFIED:20241109T123544Z
UID:10003484-1765803600-1765810800@chorlton.coop
SUMMARY:Diabetes Groups
DESCRIPTION:Clinical session first Monday of each month \nPeer support group every Monday. \nOpen to people with type 1\, type 2\, pre-diabetics or carers and families of people living with diabetes.
URL:https://chorlton.coop/event/diabetes-groups/2025-12-15/
LOCATION:Barlow Moor Community Association\, 23 Merseybank Avenue\, Chorlton\, M21 7NT\, United Kingdom
CATEGORIES:Health
END:VEVENT
BEGIN:VEVENT
DTSTART;TZID=Europe/London:20251209T153000
DTEND;TZID=Europe/London:20251209T163000
DTSTAMP:20260421T004413
CREATED:20251029T154814Z
LAST-MODIFIED:20251029T154814Z
UID:10008651-1765294200-1765297800@chorlton.coop
SUMMARY:Yoga: Standing and Chair-based Yoga
DESCRIPTION:Barlow Moor Community Association have free standing yoga and chair-based yoga every Tuesday from 3:30 – 4:30pm. Please sign up at reception or call 0161 446 4805.  Do please check before you leave home. \nBMCA\, 23 Merseybank Avenue\, M21 7NT
URL:https://chorlton.coop/event/yoga-standing-and-chair-based-yoga/2025-12-09/
LOCATION:Barlow Moor Community Association\, 23 Merseybank Avenue\, Chorlton\, M21 7NT\, United Kingdom
CATEGORIES:Health,Older people,Welfare,Workshop
END:VEVENT
BEGIN:VEVENT
DTSTART;TZID=Europe/London:20251208T130000
DTEND;TZID=Europe/London:20251208T150000
DTSTAMP:20260421T004413
CREATED:20241109T123544Z
LAST-MODIFIED:20241109T123544Z
UID:10003483-1765198800-1765206000@chorlton.coop
SUMMARY:Diabetes Groups
DESCRIPTION:Clinical session first Monday of each month \nPeer support group every Monday. \nOpen to people with type 1\, type 2\, pre-diabetics or carers and families of people living with diabetes.
URL:https://chorlton.coop/event/diabetes-groups/2025-12-08/
LOCATION:Barlow Moor Community Association\, 23 Merseybank Avenue\, Chorlton\, M21 7NT\, United Kingdom
CATEGORIES:Health
END:VEVENT
BEGIN:VEVENT
DTSTART;TZID=Europe/London:20251202T153000
DTEND;TZID=Europe/London:20251202T163000
DTSTAMP:20260421T004413
CREATED:20251029T154814Z
LAST-MODIFIED:20251029T154814Z
UID:10008650-1764689400-1764693000@chorlton.coop
SUMMARY:Yoga: Standing and Chair-based Yoga
DESCRIPTION:Barlow Moor Community Association have free standing yoga and chair-based yoga every Tuesday from 3:30 – 4:30pm. Please sign up at reception or call 0161 446 4805.  Do please check before you leave home. \nBMCA\, 23 Merseybank Avenue\, M21 7NT
URL:https://chorlton.coop/event/yoga-standing-and-chair-based-yoga/2025-12-02/
LOCATION:Barlow Moor Community Association\, 23 Merseybank Avenue\, Chorlton\, M21 7NT\, United Kingdom
CATEGORIES:Health,Older people,Welfare,Workshop
END:VEVENT
BEGIN:VEVENT
DTSTART;TZID=Europe/London:20251201T130000
DTEND;TZID=Europe/London:20251201T150000
DTSTAMP:20260421T004413
CREATED:20241109T123544Z
LAST-MODIFIED:20241109T123544Z
UID:10003482-1764594000-1764601200@chorlton.coop
SUMMARY:Diabetes Groups
DESCRIPTION:Clinical session first Monday of each month \nPeer support group every Monday. \nOpen to people with type 1\, type 2\, pre-diabetics or carers and families of people living with diabetes.
URL:https://chorlton.coop/event/diabetes-groups/2025-12-01/
LOCATION:Barlow Moor Community Association\, 23 Merseybank Avenue\, Chorlton\, M21 7NT\, United Kingdom
CATEGORIES:Health
END:VEVENT
BEGIN:VEVENT
DTSTART;TZID=Europe/London:20251125T153000
DTEND;TZID=Europe/London:20251125T163000
DTSTAMP:20260421T004413
CREATED:20251029T154814Z
LAST-MODIFIED:20251029T154814Z
UID:10008649-1764084600-1764088200@chorlton.coop
SUMMARY:Yoga: Standing and Chair-based Yoga
DESCRIPTION:Barlow Moor Community Association have free standing yoga and chair-based yoga every Tuesday from 3:30 – 4:30pm. Please sign up at reception or call 0161 446 4805.  Do please check before you leave home. \nBMCA\, 23 Merseybank Avenue\, M21 7NT
URL:https://chorlton.coop/event/yoga-standing-and-chair-based-yoga/2025-11-25/
LOCATION:Barlow Moor Community Association\, 23 Merseybank Avenue\, Chorlton\, M21 7NT\, United Kingdom
CATEGORIES:Health,Older people,Welfare,Workshop
END:VEVENT
BEGIN:VEVENT
DTSTART;TZID=Europe/London:20251124T130000
DTEND;TZID=Europe/London:20251124T150000
DTSTAMP:20260421T004413
CREATED:20241109T123544Z
LAST-MODIFIED:20241109T123544Z
UID:10003481-1763989200-1763996400@chorlton.coop
SUMMARY:Diabetes Groups
DESCRIPTION:Clinical session first Monday of each month \nPeer support group every Monday. \nOpen to people with type 1\, type 2\, pre-diabetics or carers and families of people living with diabetes.
URL:https://chorlton.coop/event/diabetes-groups/2025-11-24/
LOCATION:Barlow Moor Community Association\, 23 Merseybank Avenue\, Chorlton\, M21 7NT\, United Kingdom
CATEGORIES:Health
END:VEVENT
BEGIN:VEVENT
DTSTART;TZID=Europe/London:20251118T153000
DTEND;TZID=Europe/London:20251118T163000
DTSTAMP:20260421T004413
CREATED:20251029T154814Z
LAST-MODIFIED:20251029T154814Z
UID:10008648-1763479800-1763483400@chorlton.coop
SUMMARY:Yoga: Standing and Chair-based Yoga
DESCRIPTION:Barlow Moor Community Association have free standing yoga and chair-based yoga every Tuesday from 3:30 – 4:30pm. Please sign up at reception or call 0161 446 4805.  Do please check before you leave home. \nBMCA\, 23 Merseybank Avenue\, M21 7NT
URL:https://chorlton.coop/event/yoga-standing-and-chair-based-yoga/2025-11-18/
LOCATION:Barlow Moor Community Association\, 23 Merseybank Avenue\, Chorlton\, M21 7NT\, United Kingdom
CATEGORIES:Health,Older people,Welfare,Workshop
END:VEVENT
BEGIN:VEVENT
DTSTART;TZID=Europe/London:20251117T130000
DTEND;TZID=Europe/London:20251117T150000
DTSTAMP:20260421T004413
CREATED:20241109T123544Z
LAST-MODIFIED:20241109T123544Z
UID:10003480-1763384400-1763391600@chorlton.coop
SUMMARY:Diabetes Groups
DESCRIPTION:Clinical session first Monday of each month \nPeer support group every Monday. \nOpen to people with type 1\, type 2\, pre-diabetics or carers and families of people living with diabetes.
URL:https://chorlton.coop/event/diabetes-groups/2025-11-17/
LOCATION:Barlow Moor Community Association\, 23 Merseybank Avenue\, Chorlton\, M21 7NT\, United Kingdom
CATEGORIES:Health
END:VEVENT
BEGIN:VEVENT
DTSTART;TZID=Europe/London:20251111T153000
DTEND;TZID=Europe/London:20251111T163000
DTSTAMP:20260421T004413
CREATED:20251029T154814Z
LAST-MODIFIED:20251029T154814Z
UID:10008647-1762875000-1762878600@chorlton.coop
SUMMARY:Yoga: Standing and Chair-based Yoga
DESCRIPTION:Barlow Moor Community Association have free standing yoga and chair-based yoga every Tuesday from 3:30 – 4:30pm. Please sign up at reception or call 0161 446 4805.  Do please check before you leave home. \nBMCA\, 23 Merseybank Avenue\, M21 7NT
URL:https://chorlton.coop/event/yoga-standing-and-chair-based-yoga/2025-11-11/
LOCATION:Barlow Moor Community Association\, 23 Merseybank Avenue\, Chorlton\, M21 7NT\, United Kingdom
CATEGORIES:Health,Older people,Welfare,Workshop
END:VEVENT
BEGIN:VEVENT
DTSTART;TZID=Europe/London:20251110T130000
DTEND;TZID=Europe/London:20251110T150000
DTSTAMP:20260421T004413
CREATED:20241109T123544Z
LAST-MODIFIED:20241109T123544Z
UID:10003479-1762779600-1762786800@chorlton.coop
SUMMARY:Diabetes Groups
DESCRIPTION:Clinical session first Monday of each month \nPeer support group every Monday. \nOpen to people with type 1\, type 2\, pre-diabetics or carers and families of people living with diabetes.
URL:https://chorlton.coop/event/diabetes-groups/2025-11-10/
LOCATION:Barlow Moor Community Association\, 23 Merseybank Avenue\, Chorlton\, M21 7NT\, United Kingdom
CATEGORIES:Health
END:VEVENT
BEGIN:VEVENT
DTSTART;TZID=Europe/London:20251104T153000
DTEND;TZID=Europe/London:20251104T163000
DTSTAMP:20260421T004413
CREATED:20251029T154814Z
LAST-MODIFIED:20251029T154814Z
UID:10008646-1762270200-1762273800@chorlton.coop
SUMMARY:Yoga: Standing and Chair-based Yoga
DESCRIPTION:Barlow Moor Community Association have free standing yoga and chair-based yoga every Tuesday from 3:30 – 4:30pm. Please sign up at reception or call 0161 446 4805.  Do please check before you leave home. \nBMCA\, 23 Merseybank Avenue\, M21 7NT
URL:https://chorlton.coop/event/yoga-standing-and-chair-based-yoga/2025-11-04/
LOCATION:Barlow Moor Community Association\, 23 Merseybank Avenue\, Chorlton\, M21 7NT\, United Kingdom
CATEGORIES:Health,Older people,Welfare,Workshop
END:VEVENT
BEGIN:VEVENT
DTSTART;TZID=Europe/London:20251103T130000
DTEND;TZID=Europe/London:20251103T150000
DTSTAMP:20260421T004413
CREATED:20241109T123544Z
LAST-MODIFIED:20241109T123544Z
UID:10003478-1762174800-1762182000@chorlton.coop
SUMMARY:Diabetes Groups
DESCRIPTION:Clinical session first Monday of each month \nPeer support group every Monday. \nOpen to people with type 1\, type 2\, pre-diabetics or carers and families of people living with diabetes.
URL:https://chorlton.coop/event/diabetes-groups/2025-11-03/
LOCATION:Barlow Moor Community Association\, 23 Merseybank Avenue\, Chorlton\, M21 7NT\, United Kingdom
CATEGORIES:Health
END:VEVENT
BEGIN:VEVENT
DTSTART;TZID=Europe/London:20251027T130000
DTEND;TZID=Europe/London:20251027T150000
DTSTAMP:20260421T004413
CREATED:20241109T123544Z
LAST-MODIFIED:20241109T123544Z
UID:10003477-1761570000-1761577200@chorlton.coop
SUMMARY:Diabetes Groups
DESCRIPTION:Clinical session first Monday of each month \nPeer support group every Monday. \nOpen to people with type 1\, type 2\, pre-diabetics or carers and families of people living with diabetes.
URL:https://chorlton.coop/event/diabetes-groups/2025-10-27/
LOCATION:Barlow Moor Community Association\, 23 Merseybank Avenue\, Chorlton\, M21 7NT\, United Kingdom
CATEGORIES:Health
END:VEVENT
BEGIN:VEVENT
DTSTART;TZID=Europe/London:20251020T130000
DTEND;TZID=Europe/London:20251020T150000
DTSTAMP:20260421T004413
CREATED:20241109T123544Z
LAST-MODIFIED:20241109T123544Z
UID:10003476-1760965200-1760972400@chorlton.coop
SUMMARY:Diabetes Groups
DESCRIPTION:Clinical session first Monday of each month \nPeer support group every Monday. \nOpen to people with type 1\, type 2\, pre-diabetics or carers and families of people living with diabetes.
URL:https://chorlton.coop/event/diabetes-groups/2025-10-20/
LOCATION:Barlow Moor Community Association\, 23 Merseybank Avenue\, Chorlton\, M21 7NT\, United Kingdom
CATEGORIES:Health
END:VEVENT
BEGIN:VEVENT
DTSTART;TZID=Europe/London:20251013T190000
DTEND;TZID=Europe/London:20251013T203000
DTSTAMP:20260421T004413
CREATED:20250912T140808Z
LAST-MODIFIED:20250912T151251Z
UID:10008121-1760382000-1760387400@chorlton.coop
SUMMARY:CPR and Defibrillator Training
DESCRIPTION:Free training for anyone who wants to learn to save a life and know where to find Chorlton’s numerous defibrillators (and what to do with them!) \nTo book your CPR place contact: Jenny: 07570 879091 or Cath 07722 958541 cathbrownhill55@gmail.com
URL:https://chorlton.coop/event/cpr-and-defibrillator-training-2/
LOCATION:Chorlton Library\, Manchester Road\, Chorlton\, M21 9PN
CATEGORIES:Community,Health
END:VEVENT
BEGIN:VEVENT
DTSTART;TZID=Europe/London:20251013T130000
DTEND;TZID=Europe/London:20251013T150000
DTSTAMP:20260421T004413
CREATED:20241109T123544Z
LAST-MODIFIED:20241109T123544Z
UID:10003475-1760360400-1760367600@chorlton.coop
SUMMARY:Diabetes Groups
DESCRIPTION:Clinical session first Monday of each month \nPeer support group every Monday. \nOpen to people with type 1\, type 2\, pre-diabetics or carers and families of people living with diabetes.
URL:https://chorlton.coop/event/diabetes-groups/2025-10-13/
LOCATION:Barlow Moor Community Association\, 23 Merseybank Avenue\, Chorlton\, M21 7NT\, United Kingdom
CATEGORIES:Health
END:VEVENT
BEGIN:VEVENT
DTSTART;TZID=Europe/London:20251006T130000
DTEND;TZID=Europe/London:20251006T150000
DTSTAMP:20260421T004413
CREATED:20241109T123544Z
LAST-MODIFIED:20241109T123544Z
UID:10003474-1759755600-1759762800@chorlton.coop
SUMMARY:Diabetes Groups
DESCRIPTION:Clinical session first Monday of each month \nPeer support group every Monday. \nOpen to people with type 1\, type 2\, pre-diabetics or carers and families of people living with diabetes.
URL:https://chorlton.coop/event/diabetes-groups/2025-10-06/
LOCATION:Barlow Moor Community Association\, 23 Merseybank Avenue\, Chorlton\, M21 7NT\, United Kingdom
CATEGORIES:Health
END:VEVENT
BEGIN:VEVENT
DTSTART;TZID=Europe/London:20250929T130000
DTEND;TZID=Europe/London:20250929T150000
DTSTAMP:20260421T004413
CREATED:20241109T123544Z
LAST-MODIFIED:20241109T123544Z
UID:10003473-1759150800-1759158000@chorlton.coop
SUMMARY:Diabetes Groups
DESCRIPTION:Clinical session first Monday of each month \nPeer support group every Monday. \nOpen to people with type 1\, type 2\, pre-diabetics or carers and families of people living with diabetes.
URL:https://chorlton.coop/event/diabetes-groups/2025-09-29/
LOCATION:Barlow Moor Community Association\, 23 Merseybank Avenue\, Chorlton\, M21 7NT\, United Kingdom
CATEGORIES:Health
END:VEVENT
BEGIN:VEVENT
DTSTART;TZID=Europe/London:20250924T190000
DTEND;TZID=Europe/London:20250924T203000
DTSTAMP:20260421T004413
CREATED:20250912T140706Z
LAST-MODIFIED:20250912T140732Z
UID:10008120-1758740400-1758745800@chorlton.coop
SUMMARY:CPR and Defibrillator Training
DESCRIPTION:Free training for anyone who wants to learn to save a life and know where to find Chorlton’s numerous defibrillators (and what to do with them!) \nTo book your CPR place contact: Jenny: 07570 879091 or Cath 07722 958541 cathbrownhill55@gmail.com
URL:https://chorlton.coop/event/cpr-and-defibrillator-training/
LOCATION:Bowling Green Hotel\, 1 Brookburn Road\, Chorlton\, M21 9ES\, United Kingdom
CATEGORIES:Community,Health
END:VEVENT
BEGIN:VEVENT
DTSTART;TZID=Europe/London:20250922T130000
DTEND;TZID=Europe/London:20250922T150000
DTSTAMP:20260421T004413
CREATED:20241109T123544Z
LAST-MODIFIED:20241109T123544Z
UID:10003472-1758546000-1758553200@chorlton.coop
SUMMARY:Diabetes Groups
DESCRIPTION:Clinical session first Monday of each month \nPeer support group every Monday. \nOpen to people with type 1\, type 2\, pre-diabetics or carers and families of people living with diabetes.
URL:https://chorlton.coop/event/diabetes-groups/2025-09-22/
LOCATION:Barlow Moor Community Association\, 23 Merseybank Avenue\, Chorlton\, M21 7NT\, United Kingdom
CATEGORIES:Health
END:VEVENT
BEGIN:VEVENT
DTSTART;TZID=Europe/London:20250915T130000
DTEND;TZID=Europe/London:20250915T150000
DTSTAMP:20260421T004413
CREATED:20241109T123544Z
LAST-MODIFIED:20241109T123544Z
UID:10003471-1757941200-1757948400@chorlton.coop
SUMMARY:Diabetes Groups
DESCRIPTION:Clinical session first Monday of each month \nPeer support group every Monday. \nOpen to people with type 1\, type 2\, pre-diabetics or carers and families of people living with diabetes.
URL:https://chorlton.coop/event/diabetes-groups/2025-09-15/
LOCATION:Barlow Moor Community Association\, 23 Merseybank Avenue\, Chorlton\, M21 7NT\, United Kingdom
CATEGORIES:Health
END:VEVENT
BEGIN:VEVENT
DTSTART;TZID=Europe/London:20250908T130000
DTEND;TZID=Europe/London:20250908T150000
DTSTAMP:20260421T004413
CREATED:20241109T123544Z
LAST-MODIFIED:20241109T123544Z
UID:10003470-1757336400-1757343600@chorlton.coop
SUMMARY:Diabetes Groups
DESCRIPTION:Clinical session first Monday of each month \nPeer support group every Monday. \nOpen to people with type 1\, type 2\, pre-diabetics or carers and families of people living with diabetes.
URL:https://chorlton.coop/event/diabetes-groups/2025-09-08/
LOCATION:Barlow Moor Community Association\, 23 Merseybank Avenue\, Chorlton\, M21 7NT\, United Kingdom
CATEGORIES:Health
END:VEVENT
BEGIN:VEVENT
DTSTART;TZID=Europe/London:20250901T130000
DTEND;TZID=Europe/London:20250901T150000
DTSTAMP:20260421T004413
CREATED:20241109T123544Z
LAST-MODIFIED:20241109T123544Z
UID:10003469-1756731600-1756738800@chorlton.coop
SUMMARY:Diabetes Groups
DESCRIPTION:Clinical session first Monday of each month \nPeer support group every Monday. \nOpen to people with type 1\, type 2\, pre-diabetics or carers and families of people living with diabetes.
URL:https://chorlton.coop/event/diabetes-groups/2025-09-01/
LOCATION:Barlow Moor Community Association\, 23 Merseybank Avenue\, Chorlton\, M21 7NT\, United Kingdom
CATEGORIES:Health
END:VEVENT
BEGIN:VEVENT
DTSTART;TZID=Europe/London:20250825T130000
DTEND;TZID=Europe/London:20250825T150000
DTSTAMP:20260421T004413
CREATED:20241109T123544Z
LAST-MODIFIED:20241109T123544Z
UID:10003468-1756126800-1756134000@chorlton.coop
SUMMARY:Diabetes Groups
DESCRIPTION:Clinical session first Monday of each month \nPeer support group every Monday. \nOpen to people with type 1\, type 2\, pre-diabetics or carers and families of people living with diabetes.
URL:https://chorlton.coop/event/diabetes-groups/2025-08-25/
LOCATION:Barlow Moor Community Association\, 23 Merseybank Avenue\, Chorlton\, M21 7NT\, United Kingdom
CATEGORIES:Health
END:VEVENT
BEGIN:VEVENT
DTSTART;TZID=Europe/London:20250818T130000
DTEND;TZID=Europe/London:20250818T150000
DTSTAMP:20260421T004413
CREATED:20241109T123544Z
LAST-MODIFIED:20241109T123544Z
UID:10003467-1755522000-1755529200@chorlton.coop
SUMMARY:Diabetes Groups
DESCRIPTION:Clinical session first Monday of each month \nPeer support group every Monday. \nOpen to people with type 1\, type 2\, pre-diabetics or carers and families of people living with diabetes.
URL:https://chorlton.coop/event/diabetes-groups/2025-08-18/
LOCATION:Barlow Moor Community Association\, 23 Merseybank Avenue\, Chorlton\, M21 7NT\, United Kingdom
CATEGORIES:Health
END:VEVENT
BEGIN:VEVENT
DTSTART;TZID=Europe/London:20250811T130000
DTEND;TZID=Europe/London:20250811T150000
DTSTAMP:20260421T004413
CREATED:20241109T123544Z
LAST-MODIFIED:20241109T123544Z
UID:10003466-1754917200-1754924400@chorlton.coop
SUMMARY:Diabetes Groups
DESCRIPTION:Clinical session first Monday of each month \nPeer support group every Monday. \nOpen to people with type 1\, type 2\, pre-diabetics or carers and families of people living with diabetes.
URL:https://chorlton.coop/event/diabetes-groups/2025-08-11/
LOCATION:Barlow Moor Community Association\, 23 Merseybank Avenue\, Chorlton\, M21 7NT\, United Kingdom
CATEGORIES:Health
END:VEVENT
BEGIN:VEVENT
DTSTART;TZID=Europe/London:20250804T130000
DTEND;TZID=Europe/London:20250804T150000
DTSTAMP:20260421T004413
CREATED:20241109T123544Z
LAST-MODIFIED:20241109T123544Z
UID:10003465-1754312400-1754319600@chorlton.coop
SUMMARY:Diabetes Groups
DESCRIPTION:Clinical session first Monday of each month \nPeer support group every Monday. \nOpen to people with type 1\, type 2\, pre-diabetics or carers and families of people living with diabetes.
URL:https://chorlton.coop/event/diabetes-groups/2025-08-04/
LOCATION:Barlow Moor Community Association\, 23 Merseybank Avenue\, Chorlton\, M21 7NT\, United Kingdom
CATEGORIES:Health
END:VEVENT
BEGIN:VEVENT
DTSTART;TZID=Europe/London:20250728T130000
DTEND;TZID=Europe/London:20250728T150000
DTSTAMP:20260421T004413
CREATED:20241109T123544Z
LAST-MODIFIED:20241109T123544Z
UID:10003464-1753707600-1753714800@chorlton.coop
SUMMARY:Diabetes Groups
DESCRIPTION:Clinical session first Monday of each month \nPeer support group every Monday. \nOpen to people with type 1\, type 2\, pre-diabetics or carers and families of people living with diabetes.
URL:https://chorlton.coop/event/diabetes-groups/2025-07-28/
LOCATION:Barlow Moor Community Association\, 23 Merseybank Avenue\, Chorlton\, M21 7NT\, United Kingdom
CATEGORIES:Health
END:VEVENT
END:VCALENDAR