BEGIN:VCALENDAR
VERSION:2.0
PRODID:-//Chorlton Community Cooperative - ECPv6.15.20//NONSGML v1.0//EN
CALSCALE:GREGORIAN
METHOD:PUBLISH
X-WR-CALNAME:Chorlton Community Cooperative
X-ORIGINAL-URL:https://chorlton.coop
X-WR-CALDESC:Events for Chorlton Community Cooperative
REFRESH-INTERVAL;VALUE=DURATION:PT1H
X-Robots-Tag:noindex
X-PUBLISHED-TTL:PT1H
BEGIN:VTIMEZONE
TZID:Europe/London
BEGIN:DAYLIGHT
TZOFFSETFROM:+0000
TZOFFSETTO:+0100
TZNAME:BST
DTSTART:20260329T010000
END:DAYLIGHT
BEGIN:STANDARD
TZOFFSETFROM:+0100
TZOFFSETTO:+0000
TZNAME:GMT
DTSTART:20261025T010000
END:STANDARD
BEGIN:DAYLIGHT
TZOFFSETFROM:+0000
TZOFFSETTO:+0100
TZNAME:BST
DTSTART:20270328T010000
END:DAYLIGHT
BEGIN:STANDARD
TZOFFSETFROM:+0100
TZOFFSETTO:+0000
TZNAME:GMT
DTSTART:20271031T010000
END:STANDARD
BEGIN:DAYLIGHT
TZOFFSETFROM:+0000
TZOFFSETTO:+0100
TZNAME:BST
DTSTART:20280326T010000
END:DAYLIGHT
BEGIN:STANDARD
TZOFFSETFROM:+0100
TZOFFSETTO:+0000
TZNAME:GMT
DTSTART:20281029T010000
END:STANDARD
END:VTIMEZONE
BEGIN:VEVENT
DTSTART;TZID=Europe/London:20270218T130000
DTEND;TZID=Europe/London:20270218T150000
DTSTAMP:20260420T084309
CREATED:20241109T124254Z
LAST-MODIFIED:20241109T124339Z
UID:10004845-1802955600-1802962800@chorlton.coop
SUMMARY:Thursday Digital Drop-in
DESCRIPTION:The world of computers\, social media and online shopping and safety can be bewildering.  It’s not as scary as it may seem – all you need is someone to show you how to do it!  Grab your gadgets and come along and learn a trick or three!
URL:https://chorlton.coop/event/thursday-digital-drop-in/2027-02-18/
LOCATION:Barlow Moor Community Association\, 23 Merseybank Avenue\, Chorlton\, M21 7NT\, United Kingdom
CATEGORIES:Community,Learning
END:VEVENT
BEGIN:VEVENT
DTSTART;TZID=Europe/London:20270218T160000
DTEND;TZID=Europe/London:20270218T170000
DTSTAMP:20260420T084309
CREATED:20251204T144925Z
LAST-MODIFIED:20251204T144955Z
UID:10008974-1802966400-1802970000@chorlton.coop
SUMMARY:Chorlton Library Homework Club
DESCRIPTION:Every week for primary and secondary school students. Bring your homework along and get some help from volunteers\, or come for some reading\, spelling or times tables practice. \nThursdays\, 4-5pm in term time.
URL:https://chorlton.coop/event/chorlton-library-homework-club/2027-02-18/
LOCATION:Chorlton Library\, Manchester Road\, Chorlton\, M21 9PN
CATEGORIES:Children,Learning
ORGANIZER;CN="Chorlton Library":MAILTO:Chorltonlibrary@manchester.gov.uk
END:VEVENT
BEGIN:VEVENT
DTSTART;TZID=Europe/London:20270222T100000
DTEND;TZID=Europe/London:20270222T120000
DTSTAMP:20260420T084309
CREATED:20241109T124211Z
LAST-MODIFIED:20241109T124211Z
UID:10004326-1803290400-1803297600@chorlton.coop
SUMMARY:Monday Digital Drop-in
DESCRIPTION:The world of computers\, social media and online shopping and safety can be bewildering.  It’s not as scary as it may seem – all you need is someone to show you how to do it!  Grab your gadgets and come along and learn a trick or three!
URL:https://chorlton.coop/event/monday-digital-drop-in/2027-02-22/
LOCATION:Barlow Moor Community Association\, 23 Merseybank Avenue\, Chorlton\, M21 7NT\, United Kingdom
CATEGORIES:Community,Learning
END:VEVENT
BEGIN:VEVENT
DTSTART;TZID=Europe/London:20270225T130000
DTEND;TZID=Europe/London:20270225T150000
DTSTAMP:20260420T084309
CREATED:20241109T124254Z
LAST-MODIFIED:20241109T124339Z
UID:10004846-1803560400-1803567600@chorlton.coop
SUMMARY:Thursday Digital Drop-in
DESCRIPTION:The world of computers\, social media and online shopping and safety can be bewildering.  It’s not as scary as it may seem – all you need is someone to show you how to do it!  Grab your gadgets and come along and learn a trick or three!
URL:https://chorlton.coop/event/thursday-digital-drop-in/2027-02-25/
LOCATION:Barlow Moor Community Association\, 23 Merseybank Avenue\, Chorlton\, M21 7NT\, United Kingdom
CATEGORIES:Community,Learning
END:VEVENT
BEGIN:VEVENT
DTSTART;TZID=Europe/London:20270225T160000
DTEND;TZID=Europe/London:20270225T170000
DTSTAMP:20260420T084309
CREATED:20251204T144925Z
LAST-MODIFIED:20251204T144955Z
UID:10008975-1803571200-1803574800@chorlton.coop
SUMMARY:Chorlton Library Homework Club
DESCRIPTION:Every week for primary and secondary school students. Bring your homework along and get some help from volunteers\, or come for some reading\, spelling or times tables practice. \nThursdays\, 4-5pm in term time.
URL:https://chorlton.coop/event/chorlton-library-homework-club/2027-02-25/
LOCATION:Chorlton Library\, Manchester Road\, Chorlton\, M21 9PN
CATEGORIES:Children,Learning
ORGANIZER;CN="Chorlton Library":MAILTO:Chorltonlibrary@manchester.gov.uk
END:VEVENT
BEGIN:VEVENT
DTSTART;TZID=Europe/London:20270301T100000
DTEND;TZID=Europe/London:20270301T120000
DTSTAMP:20260420T084309
CREATED:20241109T124211Z
LAST-MODIFIED:20241109T124211Z
UID:10004327-1803895200-1803902400@chorlton.coop
SUMMARY:Monday Digital Drop-in
DESCRIPTION:The world of computers\, social media and online shopping and safety can be bewildering.  It’s not as scary as it may seem – all you need is someone to show you how to do it!  Grab your gadgets and come along and learn a trick or three!
URL:https://chorlton.coop/event/monday-digital-drop-in/2027-03-01/
LOCATION:Barlow Moor Community Association\, 23 Merseybank Avenue\, Chorlton\, M21 7NT\, United Kingdom
CATEGORIES:Community,Learning
END:VEVENT
BEGIN:VEVENT
DTSTART;TZID=Europe/London:20270304T130000
DTEND;TZID=Europe/London:20270304T150000
DTSTAMP:20260420T084309
CREATED:20241109T124254Z
LAST-MODIFIED:20241109T124339Z
UID:10004847-1804165200-1804172400@chorlton.coop
SUMMARY:Thursday Digital Drop-in
DESCRIPTION:The world of computers\, social media and online shopping and safety can be bewildering.  It’s not as scary as it may seem – all you need is someone to show you how to do it!  Grab your gadgets and come along and learn a trick or three!
URL:https://chorlton.coop/event/thursday-digital-drop-in/2027-03-04/
LOCATION:Barlow Moor Community Association\, 23 Merseybank Avenue\, Chorlton\, M21 7NT\, United Kingdom
CATEGORIES:Community,Learning
END:VEVENT
BEGIN:VEVENT
DTSTART;TZID=Europe/London:20270304T160000
DTEND;TZID=Europe/London:20270304T170000
DTSTAMP:20260420T084309
CREATED:20251204T144925Z
LAST-MODIFIED:20251204T144955Z
UID:10008976-1804176000-1804179600@chorlton.coop
SUMMARY:Chorlton Library Homework Club
DESCRIPTION:Every week for primary and secondary school students. Bring your homework along and get some help from volunteers\, or come for some reading\, spelling or times tables practice. \nThursdays\, 4-5pm in term time.
URL:https://chorlton.coop/event/chorlton-library-homework-club/2027-03-04/
LOCATION:Chorlton Library\, Manchester Road\, Chorlton\, M21 9PN
CATEGORIES:Children,Learning
ORGANIZER;CN="Chorlton Library":MAILTO:Chorltonlibrary@manchester.gov.uk
END:VEVENT
BEGIN:VEVENT
DTSTART;TZID=Europe/London:20270308T100000
DTEND;TZID=Europe/London:20270308T120000
DTSTAMP:20260420T084309
CREATED:20241109T124211Z
LAST-MODIFIED:20241109T124211Z
UID:10004328-1804500000-1804507200@chorlton.coop
SUMMARY:Monday Digital Drop-in
DESCRIPTION:The world of computers\, social media and online shopping and safety can be bewildering.  It’s not as scary as it may seem – all you need is someone to show you how to do it!  Grab your gadgets and come along and learn a trick or three!
URL:https://chorlton.coop/event/monday-digital-drop-in/2027-03-08/
LOCATION:Barlow Moor Community Association\, 23 Merseybank Avenue\, Chorlton\, M21 7NT\, United Kingdom
CATEGORIES:Community,Learning
END:VEVENT
BEGIN:VEVENT
DTSTART;TZID=Europe/London:20270311T130000
DTEND;TZID=Europe/London:20270311T150000
DTSTAMP:20260420T084309
CREATED:20241109T124254Z
LAST-MODIFIED:20241109T124339Z
UID:10004848-1804770000-1804777200@chorlton.coop
SUMMARY:Thursday Digital Drop-in
DESCRIPTION:The world of computers\, social media and online shopping and safety can be bewildering.  It’s not as scary as it may seem – all you need is someone to show you how to do it!  Grab your gadgets and come along and learn a trick or three!
URL:https://chorlton.coop/event/thursday-digital-drop-in/2027-03-11/
LOCATION:Barlow Moor Community Association\, 23 Merseybank Avenue\, Chorlton\, M21 7NT\, United Kingdom
CATEGORIES:Community,Learning
END:VEVENT
BEGIN:VEVENT
DTSTART;TZID=Europe/London:20270311T160000
DTEND;TZID=Europe/London:20270311T170000
DTSTAMP:20260420T084309
CREATED:20251204T144925Z
LAST-MODIFIED:20251204T144955Z
UID:10008977-1804780800-1804784400@chorlton.coop
SUMMARY:Chorlton Library Homework Club
DESCRIPTION:Every week for primary and secondary school students. Bring your homework along and get some help from volunteers\, or come for some reading\, spelling or times tables practice. \nThursdays\, 4-5pm in term time.
URL:https://chorlton.coop/event/chorlton-library-homework-club/2027-03-11/
LOCATION:Chorlton Library\, Manchester Road\, Chorlton\, M21 9PN
CATEGORIES:Children,Learning
ORGANIZER;CN="Chorlton Library":MAILTO:Chorltonlibrary@manchester.gov.uk
END:VEVENT
BEGIN:VEVENT
DTSTART;TZID=Europe/London:20270315T100000
DTEND;TZID=Europe/London:20270315T120000
DTSTAMP:20260420T084309
CREATED:20241109T124211Z
LAST-MODIFIED:20241109T124211Z
UID:10004329-1805104800-1805112000@chorlton.coop
SUMMARY:Monday Digital Drop-in
DESCRIPTION:The world of computers\, social media and online shopping and safety can be bewildering.  It’s not as scary as it may seem – all you need is someone to show you how to do it!  Grab your gadgets and come along and learn a trick or three!
URL:https://chorlton.coop/event/monday-digital-drop-in/2027-03-15/
LOCATION:Barlow Moor Community Association\, 23 Merseybank Avenue\, Chorlton\, M21 7NT\, United Kingdom
CATEGORIES:Community,Learning
END:VEVENT
BEGIN:VEVENT
DTSTART;TZID=Europe/London:20270318T130000
DTEND;TZID=Europe/London:20270318T150000
DTSTAMP:20260420T084309
CREATED:20241109T124254Z
LAST-MODIFIED:20241109T124339Z
UID:10004849-1805374800-1805382000@chorlton.coop
SUMMARY:Thursday Digital Drop-in
DESCRIPTION:The world of computers\, social media and online shopping and safety can be bewildering.  It’s not as scary as it may seem – all you need is someone to show you how to do it!  Grab your gadgets and come along and learn a trick or three!
URL:https://chorlton.coop/event/thursday-digital-drop-in/2027-03-18/
LOCATION:Barlow Moor Community Association\, 23 Merseybank Avenue\, Chorlton\, M21 7NT\, United Kingdom
CATEGORIES:Community,Learning
END:VEVENT
BEGIN:VEVENT
DTSTART;TZID=Europe/London:20270318T160000
DTEND;TZID=Europe/London:20270318T170000
DTSTAMP:20260420T084309
CREATED:20251204T144925Z
LAST-MODIFIED:20251204T144955Z
UID:10008978-1805385600-1805389200@chorlton.coop
SUMMARY:Chorlton Library Homework Club
DESCRIPTION:Every week for primary and secondary school students. Bring your homework along and get some help from volunteers\, or come for some reading\, spelling or times tables practice. \nThursdays\, 4-5pm in term time.
URL:https://chorlton.coop/event/chorlton-library-homework-club/2027-03-18/
LOCATION:Chorlton Library\, Manchester Road\, Chorlton\, M21 9PN
CATEGORIES:Children,Learning
ORGANIZER;CN="Chorlton Library":MAILTO:Chorltonlibrary@manchester.gov.uk
END:VEVENT
BEGIN:VEVENT
DTSTART;TZID=Europe/London:20270322T100000
DTEND;TZID=Europe/London:20270322T120000
DTSTAMP:20260420T084309
CREATED:20241109T124211Z
LAST-MODIFIED:20241109T124211Z
UID:10004330-1805709600-1805716800@chorlton.coop
SUMMARY:Monday Digital Drop-in
DESCRIPTION:The world of computers\, social media and online shopping and safety can be bewildering.  It’s not as scary as it may seem – all you need is someone to show you how to do it!  Grab your gadgets and come along and learn a trick or three!
URL:https://chorlton.coop/event/monday-digital-drop-in/2027-03-22/
LOCATION:Barlow Moor Community Association\, 23 Merseybank Avenue\, Chorlton\, M21 7NT\, United Kingdom
CATEGORIES:Community,Learning
END:VEVENT
BEGIN:VEVENT
DTSTART;TZID=Europe/London:20270325T130000
DTEND;TZID=Europe/London:20270325T150000
DTSTAMP:20260420T084309
CREATED:20241109T124254Z
LAST-MODIFIED:20241109T124339Z
UID:10004850-1805979600-1805986800@chorlton.coop
SUMMARY:Thursday Digital Drop-in
DESCRIPTION:The world of computers\, social media and online shopping and safety can be bewildering.  It’s not as scary as it may seem – all you need is someone to show you how to do it!  Grab your gadgets and come along and learn a trick or three!
URL:https://chorlton.coop/event/thursday-digital-drop-in/2027-03-25/
LOCATION:Barlow Moor Community Association\, 23 Merseybank Avenue\, Chorlton\, M21 7NT\, United Kingdom
CATEGORIES:Community,Learning
END:VEVENT
BEGIN:VEVENT
DTSTART;TZID=Europe/London:20270325T160000
DTEND;TZID=Europe/London:20270325T170000
DTSTAMP:20260420T084309
CREATED:20251204T144925Z
LAST-MODIFIED:20251204T144955Z
UID:10008979-1805990400-1805994000@chorlton.coop
SUMMARY:Chorlton Library Homework Club
DESCRIPTION:Every week for primary and secondary school students. Bring your homework along and get some help from volunteers\, or come for some reading\, spelling or times tables practice. \nThursdays\, 4-5pm in term time.
URL:https://chorlton.coop/event/chorlton-library-homework-club/2027-03-25/
LOCATION:Chorlton Library\, Manchester Road\, Chorlton\, M21 9PN
CATEGORIES:Children,Learning
ORGANIZER;CN="Chorlton Library":MAILTO:Chorltonlibrary@manchester.gov.uk
END:VEVENT
BEGIN:VEVENT
DTSTART;TZID=Europe/London:20270329T100000
DTEND;TZID=Europe/London:20270329T120000
DTSTAMP:20260420T084309
CREATED:20241109T124211Z
LAST-MODIFIED:20241109T124211Z
UID:10004331-1806314400-1806321600@chorlton.coop
SUMMARY:Monday Digital Drop-in
DESCRIPTION:The world of computers\, social media and online shopping and safety can be bewildering.  It’s not as scary as it may seem – all you need is someone to show you how to do it!  Grab your gadgets and come along and learn a trick or three!
URL:https://chorlton.coop/event/monday-digital-drop-in/2027-03-29/
LOCATION:Barlow Moor Community Association\, 23 Merseybank Avenue\, Chorlton\, M21 7NT\, United Kingdom
CATEGORIES:Community,Learning
END:VEVENT
BEGIN:VEVENT
DTSTART;TZID=Europe/London:20270401T130000
DTEND;TZID=Europe/London:20270401T150000
DTSTAMP:20260420T084309
CREATED:20241109T124254Z
LAST-MODIFIED:20241109T124339Z
UID:10004851-1806584400-1806591600@chorlton.coop
SUMMARY:Thursday Digital Drop-in
DESCRIPTION:The world of computers\, social media and online shopping and safety can be bewildering.  It’s not as scary as it may seem – all you need is someone to show you how to do it!  Grab your gadgets and come along and learn a trick or three!
URL:https://chorlton.coop/event/thursday-digital-drop-in/2027-04-01/
LOCATION:Barlow Moor Community Association\, 23 Merseybank Avenue\, Chorlton\, M21 7NT\, United Kingdom
CATEGORIES:Community,Learning
END:VEVENT
BEGIN:VEVENT
DTSTART;TZID=Europe/London:20270401T160000
DTEND;TZID=Europe/London:20270401T170000
DTSTAMP:20260420T084309
CREATED:20251204T144925Z
LAST-MODIFIED:20251204T144955Z
UID:10008980-1806595200-1806598800@chorlton.coop
SUMMARY:Chorlton Library Homework Club
DESCRIPTION:Every week for primary and secondary school students. Bring your homework along and get some help from volunteers\, or come for some reading\, spelling or times tables practice. \nThursdays\, 4-5pm in term time.
URL:https://chorlton.coop/event/chorlton-library-homework-club/2027-04-01/
LOCATION:Chorlton Library\, Manchester Road\, Chorlton\, M21 9PN
CATEGORIES:Children,Learning
ORGANIZER;CN="Chorlton Library":MAILTO:Chorltonlibrary@manchester.gov.uk
END:VEVENT
BEGIN:VEVENT
DTSTART;TZID=Europe/London:20270405T100000
DTEND;TZID=Europe/London:20270405T120000
DTSTAMP:20260420T084309
CREATED:20241109T124211Z
LAST-MODIFIED:20241109T124211Z
UID:10004332-1806919200-1806926400@chorlton.coop
SUMMARY:Monday Digital Drop-in
DESCRIPTION:The world of computers\, social media and online shopping and safety can be bewildering.  It’s not as scary as it may seem – all you need is someone to show you how to do it!  Grab your gadgets and come along and learn a trick or three!
URL:https://chorlton.coop/event/monday-digital-drop-in/2027-04-05/
LOCATION:Barlow Moor Community Association\, 23 Merseybank Avenue\, Chorlton\, M21 7NT\, United Kingdom
CATEGORIES:Community,Learning
END:VEVENT
BEGIN:VEVENT
DTSTART;TZID=Europe/London:20270408T130000
DTEND;TZID=Europe/London:20270408T150000
DTSTAMP:20260420T084309
CREATED:20241109T124254Z
LAST-MODIFIED:20241109T124339Z
UID:10004852-1807189200-1807196400@chorlton.coop
SUMMARY:Thursday Digital Drop-in
DESCRIPTION:The world of computers\, social media and online shopping and safety can be bewildering.  It’s not as scary as it may seem – all you need is someone to show you how to do it!  Grab your gadgets and come along and learn a trick or three!
URL:https://chorlton.coop/event/thursday-digital-drop-in/2027-04-08/
LOCATION:Barlow Moor Community Association\, 23 Merseybank Avenue\, Chorlton\, M21 7NT\, United Kingdom
CATEGORIES:Community,Learning
END:VEVENT
BEGIN:VEVENT
DTSTART;TZID=Europe/London:20270408T160000
DTEND;TZID=Europe/London:20270408T170000
DTSTAMP:20260420T084309
CREATED:20251204T144925Z
LAST-MODIFIED:20251204T144955Z
UID:10008981-1807200000-1807203600@chorlton.coop
SUMMARY:Chorlton Library Homework Club
DESCRIPTION:Every week for primary and secondary school students. Bring your homework along and get some help from volunteers\, or come for some reading\, spelling or times tables practice. \nThursdays\, 4-5pm in term time.
URL:https://chorlton.coop/event/chorlton-library-homework-club/2027-04-08/
LOCATION:Chorlton Library\, Manchester Road\, Chorlton\, M21 9PN
CATEGORIES:Children,Learning
ORGANIZER;CN="Chorlton Library":MAILTO:Chorltonlibrary@manchester.gov.uk
END:VEVENT
BEGIN:VEVENT
DTSTART;TZID=Europe/London:20270412T100000
DTEND;TZID=Europe/London:20270412T120000
DTSTAMP:20260420T084309
CREATED:20241109T124211Z
LAST-MODIFIED:20241109T124211Z
UID:10004333-1807524000-1807531200@chorlton.coop
SUMMARY:Monday Digital Drop-in
DESCRIPTION:The world of computers\, social media and online shopping and safety can be bewildering.  It’s not as scary as it may seem – all you need is someone to show you how to do it!  Grab your gadgets and come along and learn a trick or three!
URL:https://chorlton.coop/event/monday-digital-drop-in/2027-04-12/
LOCATION:Barlow Moor Community Association\, 23 Merseybank Avenue\, Chorlton\, M21 7NT\, United Kingdom
CATEGORIES:Community,Learning
END:VEVENT
BEGIN:VEVENT
DTSTART;TZID=Europe/London:20270415T130000
DTEND;TZID=Europe/London:20270415T150000
DTSTAMP:20260420T084309
CREATED:20241109T124254Z
LAST-MODIFIED:20241109T124339Z
UID:10004853-1807794000-1807801200@chorlton.coop
SUMMARY:Thursday Digital Drop-in
DESCRIPTION:The world of computers\, social media and online shopping and safety can be bewildering.  It’s not as scary as it may seem – all you need is someone to show you how to do it!  Grab your gadgets and come along and learn a trick or three!
URL:https://chorlton.coop/event/thursday-digital-drop-in/2027-04-15/
LOCATION:Barlow Moor Community Association\, 23 Merseybank Avenue\, Chorlton\, M21 7NT\, United Kingdom
CATEGORIES:Community,Learning
END:VEVENT
BEGIN:VEVENT
DTSTART;TZID=Europe/London:20270415T160000
DTEND;TZID=Europe/London:20270415T170000
DTSTAMP:20260420T084309
CREATED:20251204T144925Z
LAST-MODIFIED:20251204T144955Z
UID:10008982-1807804800-1807808400@chorlton.coop
SUMMARY:Chorlton Library Homework Club
DESCRIPTION:Every week for primary and secondary school students. Bring your homework along and get some help from volunteers\, or come for some reading\, spelling or times tables practice. \nThursdays\, 4-5pm in term time.
URL:https://chorlton.coop/event/chorlton-library-homework-club/2027-04-15/
LOCATION:Chorlton Library\, Manchester Road\, Chorlton\, M21 9PN
CATEGORIES:Children,Learning
ORGANIZER;CN="Chorlton Library":MAILTO:Chorltonlibrary@manchester.gov.uk
END:VEVENT
BEGIN:VEVENT
DTSTART;TZID=Europe/London:20270419T100000
DTEND;TZID=Europe/London:20270419T120000
DTSTAMP:20260420T084309
CREATED:20241109T124211Z
LAST-MODIFIED:20241109T124211Z
UID:10004334-1808128800-1808136000@chorlton.coop
SUMMARY:Monday Digital Drop-in
DESCRIPTION:The world of computers\, social media and online shopping and safety can be bewildering.  It’s not as scary as it may seem – all you need is someone to show you how to do it!  Grab your gadgets and come along and learn a trick or three!
URL:https://chorlton.coop/event/monday-digital-drop-in/2027-04-19/
LOCATION:Barlow Moor Community Association\, 23 Merseybank Avenue\, Chorlton\, M21 7NT\, United Kingdom
CATEGORIES:Community,Learning
END:VEVENT
BEGIN:VEVENT
DTSTART;TZID=Europe/London:20270422T130000
DTEND;TZID=Europe/London:20270422T150000
DTSTAMP:20260420T084309
CREATED:20241109T124254Z
LAST-MODIFIED:20241109T124339Z
UID:10004854-1808398800-1808406000@chorlton.coop
SUMMARY:Thursday Digital Drop-in
DESCRIPTION:The world of computers\, social media and online shopping and safety can be bewildering.  It’s not as scary as it may seem – all you need is someone to show you how to do it!  Grab your gadgets and come along and learn a trick or three!
URL:https://chorlton.coop/event/thursday-digital-drop-in/2027-04-22/
LOCATION:Barlow Moor Community Association\, 23 Merseybank Avenue\, Chorlton\, M21 7NT\, United Kingdom
CATEGORIES:Community,Learning
END:VEVENT
BEGIN:VEVENT
DTSTART;TZID=Europe/London:20270422T160000
DTEND;TZID=Europe/London:20270422T170000
DTSTAMP:20260420T084309
CREATED:20251204T144925Z
LAST-MODIFIED:20251204T144955Z
UID:10008983-1808409600-1808413200@chorlton.coop
SUMMARY:Chorlton Library Homework Club
DESCRIPTION:Every week for primary and secondary school students. Bring your homework along and get some help from volunteers\, or come for some reading\, spelling or times tables practice. \nThursdays\, 4-5pm in term time.
URL:https://chorlton.coop/event/chorlton-library-homework-club/2027-04-22/
LOCATION:Chorlton Library\, Manchester Road\, Chorlton\, M21 9PN
CATEGORIES:Children,Learning
ORGANIZER;CN="Chorlton Library":MAILTO:Chorltonlibrary@manchester.gov.uk
END:VEVENT
BEGIN:VEVENT
DTSTART;TZID=Europe/London:20270426T100000
DTEND;TZID=Europe/London:20270426T120000
DTSTAMP:20260420T084309
CREATED:20241109T124211Z
LAST-MODIFIED:20241109T124211Z
UID:10004335-1808733600-1808740800@chorlton.coop
SUMMARY:Monday Digital Drop-in
DESCRIPTION:The world of computers\, social media and online shopping and safety can be bewildering.  It’s not as scary as it may seem – all you need is someone to show you how to do it!  Grab your gadgets and come along and learn a trick or three!
URL:https://chorlton.coop/event/monday-digital-drop-in/2027-04-26/
LOCATION:Barlow Moor Community Association\, 23 Merseybank Avenue\, Chorlton\, M21 7NT\, United Kingdom
CATEGORIES:Community,Learning
END:VEVENT
END:VCALENDAR