BEGIN:VCALENDAR
VERSION:2.0
PRODID:-//Chorlton Community Cooperative - ECPv6.15.20//NONSGML v1.0//EN
CALSCALE:GREGORIAN
METHOD:PUBLISH
X-ORIGINAL-URL:https://chorlton.coop
X-WR-CALDESC:Events for Chorlton Community Cooperative
REFRESH-INTERVAL;VALUE=DURATION:PT1H
X-Robots-Tag:noindex
X-PUBLISHED-TTL:PT1H
BEGIN:VTIMEZONE
TZID:Europe/London
BEGIN:DAYLIGHT
TZOFFSETFROM:+0000
TZOFFSETTO:+0100
TZNAME:BST
DTSTART:20260329T010000
END:DAYLIGHT
BEGIN:STANDARD
TZOFFSETFROM:+0100
TZOFFSETTO:+0000
TZNAME:GMT
DTSTART:20261025T010000
END:STANDARD
BEGIN:DAYLIGHT
TZOFFSETFROM:+0000
TZOFFSETTO:+0100
TZNAME:BST
DTSTART:20270328T010000
END:DAYLIGHT
BEGIN:STANDARD
TZOFFSETFROM:+0100
TZOFFSETTO:+0000
TZNAME:GMT
DTSTART:20271031T010000
END:STANDARD
BEGIN:DAYLIGHT
TZOFFSETFROM:+0000
TZOFFSETTO:+0100
TZNAME:BST
DTSTART:20280326T010000
END:DAYLIGHT
BEGIN:STANDARD
TZOFFSETFROM:+0100
TZOFFSETTO:+0000
TZNAME:GMT
DTSTART:20281029T010000
END:STANDARD
END:VTIMEZONE
BEGIN:VEVENT
DTSTART;TZID=Europe/London:20270607T100000
DTEND;TZID=Europe/London:20270607T120000
DTSTAMP:20260423T002906
CREATED:20241109T124211Z
LAST-MODIFIED:20241109T124211Z
UID:10004341-1812362400-1812369600@chorlton.coop
SUMMARY:Monday Digital Drop-in
DESCRIPTION:The world of computers\, social media and online shopping and safety can be bewildering.  It’s not as scary as it may seem – all you need is someone to show you how to do it!  Grab your gadgets and come along and learn a trick or three!
URL:https://chorlton.coop/event/monday-digital-drop-in/2027-06-07/
LOCATION:Barlow Moor Community Association\, 23 Merseybank Avenue\, Chorlton\, M21 7NT\, United Kingdom
CATEGORIES:Community,Learning
END:VEVENT
BEGIN:VEVENT
DTSTART;TZID=Europe/London:20270610T130000
DTEND;TZID=Europe/London:20270610T150000
DTSTAMP:20260423T002907
CREATED:20241109T124254Z
LAST-MODIFIED:20241109T124339Z
UID:10004861-1812632400-1812639600@chorlton.coop
SUMMARY:Thursday Digital Drop-in
DESCRIPTION:The world of computers\, social media and online shopping and safety can be bewildering.  It’s not as scary as it may seem – all you need is someone to show you how to do it!  Grab your gadgets and come along and learn a trick or three!
URL:https://chorlton.coop/event/thursday-digital-drop-in/2027-06-10/
LOCATION:Barlow Moor Community Association\, 23 Merseybank Avenue\, Chorlton\, M21 7NT\, United Kingdom
CATEGORIES:Community,Learning
END:VEVENT
BEGIN:VEVENT
DTSTART;TZID=Europe/London:20270610T160000
DTEND;TZID=Europe/London:20270610T170000
DTSTAMP:20260423T002907
CREATED:20251204T144925Z
LAST-MODIFIED:20251204T144955Z
UID:10008990-1812643200-1812646800@chorlton.coop
SUMMARY:Chorlton Library Homework Club
DESCRIPTION:Every week for primary and secondary school students. Bring your homework along and get some help from volunteers\, or come for some reading\, spelling or times tables practice. \nThursdays\, 4-5pm in term time.
URL:https://chorlton.coop/event/chorlton-library-homework-club/2027-06-10/
LOCATION:Chorlton Library\, Manchester Road\, Chorlton\, M21 9PN
CATEGORIES:Children,Learning
ORGANIZER;CN="Chorlton Library":MAILTO:Chorltonlibrary@manchester.gov.uk
END:VEVENT
BEGIN:VEVENT
DTSTART;TZID=Europe/London:20270614T100000
DTEND;TZID=Europe/London:20270614T120000
DTSTAMP:20260423T002907
CREATED:20241109T124211Z
LAST-MODIFIED:20241109T124211Z
UID:10004342-1812967200-1812974400@chorlton.coop
SUMMARY:Monday Digital Drop-in
DESCRIPTION:The world of computers\, social media and online shopping and safety can be bewildering.  It’s not as scary as it may seem – all you need is someone to show you how to do it!  Grab your gadgets and come along and learn a trick or three!
URL:https://chorlton.coop/event/monday-digital-drop-in/2027-06-14/
LOCATION:Barlow Moor Community Association\, 23 Merseybank Avenue\, Chorlton\, M21 7NT\, United Kingdom
CATEGORIES:Community,Learning
END:VEVENT
BEGIN:VEVENT
DTSTART;TZID=Europe/London:20270617T130000
DTEND;TZID=Europe/London:20270617T150000
DTSTAMP:20260423T002907
CREATED:20241109T124254Z
LAST-MODIFIED:20241109T124339Z
UID:10004862-1813237200-1813244400@chorlton.coop
SUMMARY:Thursday Digital Drop-in
DESCRIPTION:The world of computers\, social media and online shopping and safety can be bewildering.  It’s not as scary as it may seem – all you need is someone to show you how to do it!  Grab your gadgets and come along and learn a trick or three!
URL:https://chorlton.coop/event/thursday-digital-drop-in/2027-06-17/
LOCATION:Barlow Moor Community Association\, 23 Merseybank Avenue\, Chorlton\, M21 7NT\, United Kingdom
CATEGORIES:Community,Learning
END:VEVENT
BEGIN:VEVENT
DTSTART;TZID=Europe/London:20270617T160000
DTEND;TZID=Europe/London:20270617T170000
DTSTAMP:20260423T002907
CREATED:20251204T144925Z
LAST-MODIFIED:20251204T144955Z
UID:10008991-1813248000-1813251600@chorlton.coop
SUMMARY:Chorlton Library Homework Club
DESCRIPTION:Every week for primary and secondary school students. Bring your homework along and get some help from volunteers\, or come for some reading\, spelling or times tables practice. \nThursdays\, 4-5pm in term time.
URL:https://chorlton.coop/event/chorlton-library-homework-club/2027-06-17/
LOCATION:Chorlton Library\, Manchester Road\, Chorlton\, M21 9PN
CATEGORIES:Children,Learning
ORGANIZER;CN="Chorlton Library":MAILTO:Chorltonlibrary@manchester.gov.uk
END:VEVENT
BEGIN:VEVENT
DTSTART;TZID=Europe/London:20270621T100000
DTEND;TZID=Europe/London:20270621T120000
DTSTAMP:20260423T002907
CREATED:20241109T124211Z
LAST-MODIFIED:20241109T124211Z
UID:10004343-1813572000-1813579200@chorlton.coop
SUMMARY:Monday Digital Drop-in
DESCRIPTION:The world of computers\, social media and online shopping and safety can be bewildering.  It’s not as scary as it may seem – all you need is someone to show you how to do it!  Grab your gadgets and come along and learn a trick or three!
URL:https://chorlton.coop/event/monday-digital-drop-in/2027-06-21/
LOCATION:Barlow Moor Community Association\, 23 Merseybank Avenue\, Chorlton\, M21 7NT\, United Kingdom
CATEGORIES:Community,Learning
END:VEVENT
BEGIN:VEVENT
DTSTART;TZID=Europe/London:20270624T130000
DTEND;TZID=Europe/London:20270624T150000
DTSTAMP:20260423T002907
CREATED:20241109T124254Z
LAST-MODIFIED:20241109T124339Z
UID:10004863-1813842000-1813849200@chorlton.coop
SUMMARY:Thursday Digital Drop-in
DESCRIPTION:The world of computers\, social media and online shopping and safety can be bewildering.  It’s not as scary as it may seem – all you need is someone to show you how to do it!  Grab your gadgets and come along and learn a trick or three!
URL:https://chorlton.coop/event/thursday-digital-drop-in/2027-06-24/
LOCATION:Barlow Moor Community Association\, 23 Merseybank Avenue\, Chorlton\, M21 7NT\, United Kingdom
CATEGORIES:Community,Learning
END:VEVENT
BEGIN:VEVENT
DTSTART;TZID=Europe/London:20270624T160000
DTEND;TZID=Europe/London:20270624T170000
DTSTAMP:20260423T002907
CREATED:20251204T144925Z
LAST-MODIFIED:20251204T144955Z
UID:10008992-1813852800-1813856400@chorlton.coop
SUMMARY:Chorlton Library Homework Club
DESCRIPTION:Every week for primary and secondary school students. Bring your homework along and get some help from volunteers\, or come for some reading\, spelling or times tables practice. \nThursdays\, 4-5pm in term time.
URL:https://chorlton.coop/event/chorlton-library-homework-club/2027-06-24/
LOCATION:Chorlton Library\, Manchester Road\, Chorlton\, M21 9PN
CATEGORIES:Children,Learning
ORGANIZER;CN="Chorlton Library":MAILTO:Chorltonlibrary@manchester.gov.uk
END:VEVENT
BEGIN:VEVENT
DTSTART;TZID=Europe/London:20270628T100000
DTEND;TZID=Europe/London:20270628T120000
DTSTAMP:20260423T002907
CREATED:20241109T124211Z
LAST-MODIFIED:20241109T124211Z
UID:10004344-1814176800-1814184000@chorlton.coop
SUMMARY:Monday Digital Drop-in
DESCRIPTION:The world of computers\, social media and online shopping and safety can be bewildering.  It’s not as scary as it may seem – all you need is someone to show you how to do it!  Grab your gadgets and come along and learn a trick or three!
URL:https://chorlton.coop/event/monday-digital-drop-in/2027-06-28/
LOCATION:Barlow Moor Community Association\, 23 Merseybank Avenue\, Chorlton\, M21 7NT\, United Kingdom
CATEGORIES:Community,Learning
END:VEVENT
BEGIN:VEVENT
DTSTART;TZID=Europe/London:20270701T130000
DTEND;TZID=Europe/London:20270701T150000
DTSTAMP:20260423T002907
CREATED:20241109T124254Z
LAST-MODIFIED:20241109T124339Z
UID:10004864-1814446800-1814454000@chorlton.coop
SUMMARY:Thursday Digital Drop-in
DESCRIPTION:The world of computers\, social media and online shopping and safety can be bewildering.  It’s not as scary as it may seem – all you need is someone to show you how to do it!  Grab your gadgets and come along and learn a trick or three!
URL:https://chorlton.coop/event/thursday-digital-drop-in/2027-07-01/
LOCATION:Barlow Moor Community Association\, 23 Merseybank Avenue\, Chorlton\, M21 7NT\, United Kingdom
CATEGORIES:Community,Learning
END:VEVENT
BEGIN:VEVENT
DTSTART;TZID=Europe/London:20270701T160000
DTEND;TZID=Europe/London:20270701T170000
DTSTAMP:20260423T002907
CREATED:20251204T144925Z
LAST-MODIFIED:20251204T144955Z
UID:10008993-1814457600-1814461200@chorlton.coop
SUMMARY:Chorlton Library Homework Club
DESCRIPTION:Every week for primary and secondary school students. Bring your homework along and get some help from volunteers\, or come for some reading\, spelling or times tables practice. \nThursdays\, 4-5pm in term time.
URL:https://chorlton.coop/event/chorlton-library-homework-club/2027-07-01/
LOCATION:Chorlton Library\, Manchester Road\, Chorlton\, M21 9PN
CATEGORIES:Children,Learning
ORGANIZER;CN="Chorlton Library":MAILTO:Chorltonlibrary@manchester.gov.uk
END:VEVENT
BEGIN:VEVENT
DTSTART;TZID=Europe/London:20270705T100000
DTEND;TZID=Europe/London:20270705T120000
DTSTAMP:20260423T002907
CREATED:20241109T124211Z
LAST-MODIFIED:20241109T124211Z
UID:10004345-1814781600-1814788800@chorlton.coop
SUMMARY:Monday Digital Drop-in
DESCRIPTION:The world of computers\, social media and online shopping and safety can be bewildering.  It’s not as scary as it may seem – all you need is someone to show you how to do it!  Grab your gadgets and come along and learn a trick or three!
URL:https://chorlton.coop/event/monday-digital-drop-in/2027-07-05/
LOCATION:Barlow Moor Community Association\, 23 Merseybank Avenue\, Chorlton\, M21 7NT\, United Kingdom
CATEGORIES:Community,Learning
END:VEVENT
BEGIN:VEVENT
DTSTART;TZID=Europe/London:20270708T130000
DTEND;TZID=Europe/London:20270708T150000
DTSTAMP:20260423T002907
CREATED:20241109T124254Z
LAST-MODIFIED:20241109T124339Z
UID:10004865-1815051600-1815058800@chorlton.coop
SUMMARY:Thursday Digital Drop-in
DESCRIPTION:The world of computers\, social media and online shopping and safety can be bewildering.  It’s not as scary as it may seem – all you need is someone to show you how to do it!  Grab your gadgets and come along and learn a trick or three!
URL:https://chorlton.coop/event/thursday-digital-drop-in/2027-07-08/
LOCATION:Barlow Moor Community Association\, 23 Merseybank Avenue\, Chorlton\, M21 7NT\, United Kingdom
CATEGORIES:Community,Learning
END:VEVENT
BEGIN:VEVENT
DTSTART;TZID=Europe/London:20270708T160000
DTEND;TZID=Europe/London:20270708T170000
DTSTAMP:20260423T002907
CREATED:20251204T144925Z
LAST-MODIFIED:20251204T144955Z
UID:10008994-1815062400-1815066000@chorlton.coop
SUMMARY:Chorlton Library Homework Club
DESCRIPTION:Every week for primary and secondary school students. Bring your homework along and get some help from volunteers\, or come for some reading\, spelling or times tables practice. \nThursdays\, 4-5pm in term time.
URL:https://chorlton.coop/event/chorlton-library-homework-club/2027-07-08/
LOCATION:Chorlton Library\, Manchester Road\, Chorlton\, M21 9PN
CATEGORIES:Children,Learning
ORGANIZER;CN="Chorlton Library":MAILTO:Chorltonlibrary@manchester.gov.uk
END:VEVENT
BEGIN:VEVENT
DTSTART;TZID=Europe/London:20270712T100000
DTEND;TZID=Europe/London:20270712T120000
DTSTAMP:20260423T002907
CREATED:20241109T124211Z
LAST-MODIFIED:20241109T124211Z
UID:10004346-1815386400-1815393600@chorlton.coop
SUMMARY:Monday Digital Drop-in
DESCRIPTION:The world of computers\, social media and online shopping and safety can be bewildering.  It’s not as scary as it may seem – all you need is someone to show you how to do it!  Grab your gadgets and come along and learn a trick or three!
URL:https://chorlton.coop/event/monday-digital-drop-in/2027-07-12/
LOCATION:Barlow Moor Community Association\, 23 Merseybank Avenue\, Chorlton\, M21 7NT\, United Kingdom
CATEGORIES:Community,Learning
END:VEVENT
BEGIN:VEVENT
DTSTART;TZID=Europe/London:20270715T130000
DTEND;TZID=Europe/London:20270715T150000
DTSTAMP:20260423T002907
CREATED:20241109T124254Z
LAST-MODIFIED:20241109T124339Z
UID:10004866-1815656400-1815663600@chorlton.coop
SUMMARY:Thursday Digital Drop-in
DESCRIPTION:The world of computers\, social media and online shopping and safety can be bewildering.  It’s not as scary as it may seem – all you need is someone to show you how to do it!  Grab your gadgets and come along and learn a trick or three!
URL:https://chorlton.coop/event/thursday-digital-drop-in/2027-07-15/
LOCATION:Barlow Moor Community Association\, 23 Merseybank Avenue\, Chorlton\, M21 7NT\, United Kingdom
CATEGORIES:Community,Learning
END:VEVENT
BEGIN:VEVENT
DTSTART;TZID=Europe/London:20270715T160000
DTEND;TZID=Europe/London:20270715T170000
DTSTAMP:20260423T002907
CREATED:20251204T144925Z
LAST-MODIFIED:20251204T144955Z
UID:10008995-1815667200-1815670800@chorlton.coop
SUMMARY:Chorlton Library Homework Club
DESCRIPTION:Every week for primary and secondary school students. Bring your homework along and get some help from volunteers\, or come for some reading\, spelling or times tables practice. \nThursdays\, 4-5pm in term time.
URL:https://chorlton.coop/event/chorlton-library-homework-club/2027-07-15/
LOCATION:Chorlton Library\, Manchester Road\, Chorlton\, M21 9PN
CATEGORIES:Children,Learning
ORGANIZER;CN="Chorlton Library":MAILTO:Chorltonlibrary@manchester.gov.uk
END:VEVENT
BEGIN:VEVENT
DTSTART;TZID=Europe/London:20270719T100000
DTEND;TZID=Europe/London:20270719T120000
DTSTAMP:20260423T002907
CREATED:20241109T124211Z
LAST-MODIFIED:20241109T124211Z
UID:10004347-1815991200-1815998400@chorlton.coop
SUMMARY:Monday Digital Drop-in
DESCRIPTION:The world of computers\, social media and online shopping and safety can be bewildering.  It’s not as scary as it may seem – all you need is someone to show you how to do it!  Grab your gadgets and come along and learn a trick or three!
URL:https://chorlton.coop/event/monday-digital-drop-in/2027-07-19/
LOCATION:Barlow Moor Community Association\, 23 Merseybank Avenue\, Chorlton\, M21 7NT\, United Kingdom
CATEGORIES:Community,Learning
END:VEVENT
BEGIN:VEVENT
DTSTART;TZID=Europe/London:20270722T130000
DTEND;TZID=Europe/London:20270722T150000
DTSTAMP:20260423T002907
CREATED:20241109T124254Z
LAST-MODIFIED:20241109T124339Z
UID:10004867-1816261200-1816268400@chorlton.coop
SUMMARY:Thursday Digital Drop-in
DESCRIPTION:The world of computers\, social media and online shopping and safety can be bewildering.  It’s not as scary as it may seem – all you need is someone to show you how to do it!  Grab your gadgets and come along and learn a trick or three!
URL:https://chorlton.coop/event/thursday-digital-drop-in/2027-07-22/
LOCATION:Barlow Moor Community Association\, 23 Merseybank Avenue\, Chorlton\, M21 7NT\, United Kingdom
CATEGORIES:Community,Learning
END:VEVENT
BEGIN:VEVENT
DTSTART;TZID=Europe/London:20270722T160000
DTEND;TZID=Europe/London:20270722T170000
DTSTAMP:20260423T002907
CREATED:20251204T144925Z
LAST-MODIFIED:20251204T144955Z
UID:10008996-1816272000-1816275600@chorlton.coop
SUMMARY:Chorlton Library Homework Club
DESCRIPTION:Every week for primary and secondary school students. Bring your homework along and get some help from volunteers\, or come for some reading\, spelling or times tables practice. \nThursdays\, 4-5pm in term time.
URL:https://chorlton.coop/event/chorlton-library-homework-club/2027-07-22/
LOCATION:Chorlton Library\, Manchester Road\, Chorlton\, M21 9PN
CATEGORIES:Children,Learning
ORGANIZER;CN="Chorlton Library":MAILTO:Chorltonlibrary@manchester.gov.uk
END:VEVENT
BEGIN:VEVENT
DTSTART;TZID=Europe/London:20270726T100000
DTEND;TZID=Europe/London:20270726T120000
DTSTAMP:20260423T002907
CREATED:20241109T124211Z
LAST-MODIFIED:20241109T124211Z
UID:10004348-1816596000-1816603200@chorlton.coop
SUMMARY:Monday Digital Drop-in
DESCRIPTION:The world of computers\, social media and online shopping and safety can be bewildering.  It’s not as scary as it may seem – all you need is someone to show you how to do it!  Grab your gadgets and come along and learn a trick or three!
URL:https://chorlton.coop/event/monday-digital-drop-in/2027-07-26/
LOCATION:Barlow Moor Community Association\, 23 Merseybank Avenue\, Chorlton\, M21 7NT\, United Kingdom
CATEGORIES:Community,Learning
END:VEVENT
BEGIN:VEVENT
DTSTART;TZID=Europe/London:20270729T130000
DTEND;TZID=Europe/London:20270729T150000
DTSTAMP:20260423T002907
CREATED:20241109T124254Z
LAST-MODIFIED:20241109T124339Z
UID:10004868-1816866000-1816873200@chorlton.coop
SUMMARY:Thursday Digital Drop-in
DESCRIPTION:The world of computers\, social media and online shopping and safety can be bewildering.  It’s not as scary as it may seem – all you need is someone to show you how to do it!  Grab your gadgets and come along and learn a trick or three!
URL:https://chorlton.coop/event/thursday-digital-drop-in/2027-07-29/
LOCATION:Barlow Moor Community Association\, 23 Merseybank Avenue\, Chorlton\, M21 7NT\, United Kingdom
CATEGORIES:Community,Learning
END:VEVENT
BEGIN:VEVENT
DTSTART;TZID=Europe/London:20270729T160000
DTEND;TZID=Europe/London:20270729T170000
DTSTAMP:20260423T002907
CREATED:20251204T144925Z
LAST-MODIFIED:20251204T144955Z
UID:10008997-1816876800-1816880400@chorlton.coop
SUMMARY:Chorlton Library Homework Club
DESCRIPTION:Every week for primary and secondary school students. Bring your homework along and get some help from volunteers\, or come for some reading\, spelling or times tables practice. \nThursdays\, 4-5pm in term time.
URL:https://chorlton.coop/event/chorlton-library-homework-club/2027-07-29/
LOCATION:Chorlton Library\, Manchester Road\, Chorlton\, M21 9PN
CATEGORIES:Children,Learning
ORGANIZER;CN="Chorlton Library":MAILTO:Chorltonlibrary@manchester.gov.uk
END:VEVENT
BEGIN:VEVENT
DTSTART;TZID=Europe/London:20270802T100000
DTEND;TZID=Europe/London:20270802T120000
DTSTAMP:20260423T002907
CREATED:20241109T124211Z
LAST-MODIFIED:20241109T124211Z
UID:10004349-1817200800-1817208000@chorlton.coop
SUMMARY:Monday Digital Drop-in
DESCRIPTION:The world of computers\, social media and online shopping and safety can be bewildering.  It’s not as scary as it may seem – all you need is someone to show you how to do it!  Grab your gadgets and come along and learn a trick or three!
URL:https://chorlton.coop/event/monday-digital-drop-in/2027-08-02/
LOCATION:Barlow Moor Community Association\, 23 Merseybank Avenue\, Chorlton\, M21 7NT\, United Kingdom
CATEGORIES:Community,Learning
END:VEVENT
BEGIN:VEVENT
DTSTART;TZID=Europe/London:20270805T130000
DTEND;TZID=Europe/London:20270805T150000
DTSTAMP:20260423T002907
CREATED:20241109T124254Z
LAST-MODIFIED:20241109T124339Z
UID:10004869-1817470800-1817478000@chorlton.coop
SUMMARY:Thursday Digital Drop-in
DESCRIPTION:The world of computers\, social media and online shopping and safety can be bewildering.  It’s not as scary as it may seem – all you need is someone to show you how to do it!  Grab your gadgets and come along and learn a trick or three!
URL:https://chorlton.coop/event/thursday-digital-drop-in/2027-08-05/
LOCATION:Barlow Moor Community Association\, 23 Merseybank Avenue\, Chorlton\, M21 7NT\, United Kingdom
CATEGORIES:Community,Learning
END:VEVENT
BEGIN:VEVENT
DTSTART;TZID=Europe/London:20270805T160000
DTEND;TZID=Europe/London:20270805T170000
DTSTAMP:20260423T002907
CREATED:20251204T144925Z
LAST-MODIFIED:20251204T144955Z
UID:10008998-1817481600-1817485200@chorlton.coop
SUMMARY:Chorlton Library Homework Club
DESCRIPTION:Every week for primary and secondary school students. Bring your homework along and get some help from volunteers\, or come for some reading\, spelling or times tables practice. \nThursdays\, 4-5pm in term time.
URL:https://chorlton.coop/event/chorlton-library-homework-club/2027-08-05/
LOCATION:Chorlton Library\, Manchester Road\, Chorlton\, M21 9PN
CATEGORIES:Children,Learning
ORGANIZER;CN="Chorlton Library":MAILTO:Chorltonlibrary@manchester.gov.uk
END:VEVENT
BEGIN:VEVENT
DTSTART;TZID=Europe/London:20270809T100000
DTEND;TZID=Europe/London:20270809T120000
DTSTAMP:20260423T002907
CREATED:20241109T124211Z
LAST-MODIFIED:20241109T124211Z
UID:10004350-1817805600-1817812800@chorlton.coop
SUMMARY:Monday Digital Drop-in
DESCRIPTION:The world of computers\, social media and online shopping and safety can be bewildering.  It’s not as scary as it may seem – all you need is someone to show you how to do it!  Grab your gadgets and come along and learn a trick or three!
URL:https://chorlton.coop/event/monday-digital-drop-in/2027-08-09/
LOCATION:Barlow Moor Community Association\, 23 Merseybank Avenue\, Chorlton\, M21 7NT\, United Kingdom
CATEGORIES:Community,Learning
END:VEVENT
BEGIN:VEVENT
DTSTART;TZID=Europe/London:20270812T130000
DTEND;TZID=Europe/London:20270812T150000
DTSTAMP:20260423T002907
CREATED:20241109T124254Z
LAST-MODIFIED:20241109T124339Z
UID:10004870-1818075600-1818082800@chorlton.coop
SUMMARY:Thursday Digital Drop-in
DESCRIPTION:The world of computers\, social media and online shopping and safety can be bewildering.  It’s not as scary as it may seem – all you need is someone to show you how to do it!  Grab your gadgets and come along and learn a trick or three!
URL:https://chorlton.coop/event/thursday-digital-drop-in/2027-08-12/
LOCATION:Barlow Moor Community Association\, 23 Merseybank Avenue\, Chorlton\, M21 7NT\, United Kingdom
CATEGORIES:Community,Learning
END:VEVENT
BEGIN:VEVENT
DTSTART;TZID=Europe/London:20270812T160000
DTEND;TZID=Europe/London:20270812T170000
DTSTAMP:20260423T002907
CREATED:20251204T144925Z
LAST-MODIFIED:20251204T144955Z
UID:10008999-1818086400-1818090000@chorlton.coop
SUMMARY:Chorlton Library Homework Club
DESCRIPTION:Every week for primary and secondary school students. Bring your homework along and get some help from volunteers\, or come for some reading\, spelling or times tables practice. \nThursdays\, 4-5pm in term time.
URL:https://chorlton.coop/event/chorlton-library-homework-club/2027-08-12/
LOCATION:Chorlton Library\, Manchester Road\, Chorlton\, M21 9PN
CATEGORIES:Children,Learning
ORGANIZER;CN="Chorlton Library":MAILTO:Chorltonlibrary@manchester.gov.uk
END:VEVENT
END:VCALENDAR